BEGIN:VCALENDAR
VERSION:2.0
PRODID:-//UG Rekrutacja//PL
CALSCALE:GREGORIAN
METHOD:PUBLISH
BEGIN:VEVENT
UID:wiedza-o-filmie-i-kulturze-audiowizualnej-1047-0@ug.edu.pl
DTSTAMP:20260425T005631Z
DTSTART;VALUE=DATE:20260615
DTEND;VALUE=DATE:20260616
SUMMARY:Rozpoczęcie rejestracji – Wiedza o filmie i kulturze audiowizualnej
DESCRIPTION:Wiedza o filmie i kulturze audiowizualnej\nhttps://rekrutacja.ug.edu.pl/kierunek/wiedza-o-filmie-i-kulturze-audiowizualnej-2/
URL:https://rekrutacja.ug.edu.pl/kierunek/wiedza-o-filmie-i-kulturze-audiowizualnej-2/
END:VEVENT
BEGIN:VEVENT
UID:wiedza-o-filmie-i-kulturze-audiowizualnej-1047-1@ug.edu.pl
DTSTAMP:20260425T005631Z
DTSTART;VALUE=DATE:20260710
DTEND;VALUE=DATE:20260711
SUMMARY:Zakończenie rejestracji – Wiedza o filmie i kulturze audiowizualnej
DESCRIPTION:Wiedza o filmie i kulturze audiowizualnej\nhttps://rekrutacja.ug.edu.pl/kierunek/wiedza-o-filmie-i-kulturze-audiowizualnej-2/
URL:https://rekrutacja.ug.edu.pl/kierunek/wiedza-o-filmie-i-kulturze-audiowizualnej-2/
END:VEVENT
BEGIN:VEVENT
UID:wiedza-o-filmie-i-kulturze-audiowizualnej-1047-2@ug.edu.pl
DTSTAMP:20260425T005631Z
DTSTART;VALUE=DATE:20260713
DTEND;VALUE=DATE:20260714
SUMMARY:Egzaminy dla obcokrajowców – Wiedza o filmie i kulturze audiowizualnej
DESCRIPTION:Wiedza o filmie i kulturze audiowizualnej\nhttps://rekrutacja.ug.edu.pl/kierunek/wiedza-o-filmie-i-kulturze-audiowizualnej-2/
URL:https://rekrutacja.ug.edu.pl/kierunek/wiedza-o-filmie-i-kulturze-audiowizualnej-2/
END:VEVENT
BEGIN:VEVENT
UID:wiedza-o-filmie-i-kulturze-audiowizualnej-1047-3@ug.edu.pl
DTSTAMP:20260425T005631Z
DTSTART;VALUE=DATE:20260714
DTEND;VALUE=DATE:20260715
SUMMARY:Ogłoszenie kandydatów – Wiedza o filmie i kulturze audiowizualnej
DESCRIPTION:Wiedza o filmie i kulturze audiowizualnej\nhttps://rekrutacja.ug.edu.pl/kierunek/wiedza-o-filmie-i-kulturze-audiowizualnej-2/
URL:https://rekrutacja.ug.edu.pl/kierunek/wiedza-o-filmie-i-kulturze-audiowizualnej-2/
END:VEVENT
BEGIN:VEVENT
UID:wiedza-o-filmie-i-kulturze-audiowizualnej-1047-4@ug.edu.pl
DTSTAMP:20260425T005631Z
DTSTART;VALUE=DATE:20260715
DTEND;VALUE=DATE:20260716
SUMMARY:Składanie dokumentów – start – Wiedza o filmie i kulturze audiowizualnej
DESCRIPTION:Wiedza o filmie i kulturze audiowizualnej\nhttps://rekrutacja.ug.edu.pl/kierunek/wiedza-o-filmie-i-kulturze-audiowizualnej-2/
URL:https://rekrutacja.ug.edu.pl/kierunek/wiedza-o-filmie-i-kulturze-audiowizualnej-2/
END:VEVENT
BEGIN:VEVENT
UID:wiedza-o-filmie-i-kulturze-audiowizualnej-1047-5@ug.edu.pl
DTSTAMP:20260425T005631Z
DTSTART;VALUE=DATE:20260720
DTEND;VALUE=DATE:20260721
SUMMARY:Składanie dokumentów – koniec – Wiedza o filmie i kulturze audiowizualnej
DESCRIPTION:Wiedza o filmie i kulturze audiowizualnej\nhttps://rekrutacja.ug.edu.pl/kierunek/wiedza-o-filmie-i-kulturze-audiowizualnej-2/
URL:https://rekrutacja.ug.edu.pl/kierunek/wiedza-o-filmie-i-kulturze-audiowizualnej-2/
END:VEVENT
BEGIN:VEVENT
UID:wiedza-o-filmie-i-kulturze-audiowizualnej-1047-6@ug.edu.pl
DTSTAMP:20260425T005631Z
DTSTART;VALUE=DATE:20260721
DTEND;VALUE=DATE:20260722
SUMMARY:Ogłoszenie przyjętych – Wiedza o filmie i kulturze audiowizualnej
DESCRIPTION:Wiedza o filmie i kulturze audiowizualnej\nhttps://rekrutacja.ug.edu.pl/kierunek/wiedza-o-filmie-i-kulturze-audiowizualnej-2/
URL:https://rekrutacja.ug.edu.pl/kierunek/wiedza-o-filmie-i-kulturze-audiowizualnej-2/
END:VEVENT
END:VCALENDAR
