BEGIN:VCALENDAR
VERSION:2.0
PRODID:-//UG Rekrutacja//PL
CALSCALE:GREGORIAN
METHOD:PUBLISH
BEGIN:VEVENT
UID:projektowanie-gier-historycznych-1070-0@ug.edu.pl
DTSTAMP:20260423T021050Z
DTSTART;VALUE=DATE:20260615
DTEND;VALUE=DATE:20260616
SUMMARY:Rozpoczęcie rejestracji – Projektowanie gier historycznych
DESCRIPTION:Projektowanie gier historycznych\nhttps://rekrutacja.ug.edu.pl/kierunek/projektowanie-gier-historycznych/
URL:https://rekrutacja.ug.edu.pl/kierunek/projektowanie-gier-historycznych/
END:VEVENT
BEGIN:VEVENT
UID:projektowanie-gier-historycznych-1070-1@ug.edu.pl
DTSTAMP:20260423T021050Z
DTSTART;VALUE=DATE:20260712
DTEND;VALUE=DATE:20260713
SUMMARY:Zakończenie rejestracji – Projektowanie gier historycznych
DESCRIPTION:Projektowanie gier historycznych\nhttps://rekrutacja.ug.edu.pl/kierunek/projektowanie-gier-historycznych/
URL:https://rekrutacja.ug.edu.pl/kierunek/projektowanie-gier-historycznych/
END:VEVENT
BEGIN:VEVENT
UID:projektowanie-gier-historycznych-1070-2@ug.edu.pl
DTSTAMP:20260423T021050Z
DTSTART;VALUE=DATE:20260713
DTEND;VALUE=DATE:20260714
SUMMARY:Egzaminy dla obcokrajowców – Projektowanie gier historycznych
DESCRIPTION:Projektowanie gier historycznych\nhttps://rekrutacja.ug.edu.pl/kierunek/projektowanie-gier-historycznych/
URL:https://rekrutacja.ug.edu.pl/kierunek/projektowanie-gier-historycznych/
END:VEVENT
BEGIN:VEVENT
UID:projektowanie-gier-historycznych-1070-3@ug.edu.pl
DTSTAMP:20260423T021050Z
DTSTART;VALUE=DATE:20260714
DTEND;VALUE=DATE:20260715
SUMMARY:Ogłoszenie kandydatów – Projektowanie gier historycznych
DESCRIPTION:Projektowanie gier historycznych\nhttps://rekrutacja.ug.edu.pl/kierunek/projektowanie-gier-historycznych/
URL:https://rekrutacja.ug.edu.pl/kierunek/projektowanie-gier-historycznych/
END:VEVENT
BEGIN:VEVENT
UID:projektowanie-gier-historycznych-1070-4@ug.edu.pl
DTSTAMP:20260423T021050Z
DTSTART;VALUE=DATE:20260715
DTEND;VALUE=DATE:20260716
SUMMARY:Składanie dokumentów – start – Projektowanie gier historycznych
DESCRIPTION:Projektowanie gier historycznych\nhttps://rekrutacja.ug.edu.pl/kierunek/projektowanie-gier-historycznych/
URL:https://rekrutacja.ug.edu.pl/kierunek/projektowanie-gier-historycznych/
END:VEVENT
BEGIN:VEVENT
UID:projektowanie-gier-historycznych-1070-5@ug.edu.pl
DTSTAMP:20260423T021050Z
DTSTART;VALUE=DATE:20260720
DTEND;VALUE=DATE:20260721
SUMMARY:Składanie dokumentów – koniec – Projektowanie gier historycznych
DESCRIPTION:Projektowanie gier historycznych\nhttps://rekrutacja.ug.edu.pl/kierunek/projektowanie-gier-historycznych/
URL:https://rekrutacja.ug.edu.pl/kierunek/projektowanie-gier-historycznych/
END:VEVENT
BEGIN:VEVENT
UID:projektowanie-gier-historycznych-1070-6@ug.edu.pl
DTSTAMP:20260423T021050Z
DTSTART;VALUE=DATE:20260721
DTEND;VALUE=DATE:20260722
SUMMARY:Ogłoszenie przyjętych – Projektowanie gier historycznych
DESCRIPTION:Projektowanie gier historycznych\nhttps://rekrutacja.ug.edu.pl/kierunek/projektowanie-gier-historycznych/
URL:https://rekrutacja.ug.edu.pl/kierunek/projektowanie-gier-historycznych/
END:VEVENT
END:VCALENDAR
