BEGIN:VCALENDAR
VERSION:2.0
PRODID:-//UG Rekrutacja//PL
CALSCALE:GREGORIAN
METHOD:PUBLISH
BEGIN:VEVENT
UID:podatki-i-doradztwo-podatkowe-1081-0@ug.edu.pl
DTSTAMP:20260425T112843Z
DTSTART;VALUE=DATE:20260615
DTEND;VALUE=DATE:20260616
SUMMARY:Rozpoczęcie rejestracji – Podatki i doradztwo podatkowe
DESCRIPTION:Podatki i doradztwo podatkowe\nhttps://rekrutacja.ug.edu.pl/kierunek/podatki-i-doradztwo-podatkowe/
URL:https://rekrutacja.ug.edu.pl/kierunek/podatki-i-doradztwo-podatkowe/
END:VEVENT
BEGIN:VEVENT
UID:podatki-i-doradztwo-podatkowe-1081-1@ug.edu.pl
DTSTAMP:20260425T112843Z
DTSTART;VALUE=DATE:20260712
DTEND;VALUE=DATE:20260713
SUMMARY:Zakończenie rejestracji – Podatki i doradztwo podatkowe
DESCRIPTION:Podatki i doradztwo podatkowe\nhttps://rekrutacja.ug.edu.pl/kierunek/podatki-i-doradztwo-podatkowe/
URL:https://rekrutacja.ug.edu.pl/kierunek/podatki-i-doradztwo-podatkowe/
END:VEVENT
BEGIN:VEVENT
UID:podatki-i-doradztwo-podatkowe-1081-2@ug.edu.pl
DTSTAMP:20260425T112843Z
DTSTART;VALUE=DATE:20260713
DTEND;VALUE=DATE:20260714
SUMMARY:Egzaminy dla obcokrajowców – Podatki i doradztwo podatkowe
DESCRIPTION:Podatki i doradztwo podatkowe\nhttps://rekrutacja.ug.edu.pl/kierunek/podatki-i-doradztwo-podatkowe/
URL:https://rekrutacja.ug.edu.pl/kierunek/podatki-i-doradztwo-podatkowe/
END:VEVENT
BEGIN:VEVENT
UID:podatki-i-doradztwo-podatkowe-1081-3@ug.edu.pl
DTSTAMP:20260425T112843Z
DTSTART;VALUE=DATE:20260714
DTEND;VALUE=DATE:20260715
SUMMARY:Ogłoszenie kandydatów – Podatki i doradztwo podatkowe
DESCRIPTION:Podatki i doradztwo podatkowe\nhttps://rekrutacja.ug.edu.pl/kierunek/podatki-i-doradztwo-podatkowe/
URL:https://rekrutacja.ug.edu.pl/kierunek/podatki-i-doradztwo-podatkowe/
END:VEVENT
BEGIN:VEVENT
UID:podatki-i-doradztwo-podatkowe-1081-4@ug.edu.pl
DTSTAMP:20260425T112843Z
DTSTART;VALUE=DATE:20260715
DTEND;VALUE=DATE:20260716
SUMMARY:Składanie dokumentów – start – Podatki i doradztwo podatkowe
DESCRIPTION:Podatki i doradztwo podatkowe\nhttps://rekrutacja.ug.edu.pl/kierunek/podatki-i-doradztwo-podatkowe/
URL:https://rekrutacja.ug.edu.pl/kierunek/podatki-i-doradztwo-podatkowe/
END:VEVENT
BEGIN:VEVENT
UID:podatki-i-doradztwo-podatkowe-1081-5@ug.edu.pl
DTSTAMP:20260425T112843Z
DTSTART;VALUE=DATE:20260720
DTEND;VALUE=DATE:20260721
SUMMARY:Składanie dokumentów – koniec – Podatki i doradztwo podatkowe
DESCRIPTION:Podatki i doradztwo podatkowe\nhttps://rekrutacja.ug.edu.pl/kierunek/podatki-i-doradztwo-podatkowe/
URL:https://rekrutacja.ug.edu.pl/kierunek/podatki-i-doradztwo-podatkowe/
END:VEVENT
BEGIN:VEVENT
UID:podatki-i-doradztwo-podatkowe-1081-6@ug.edu.pl
DTSTAMP:20260425T112843Z
DTSTART;VALUE=DATE:20260721
DTEND;VALUE=DATE:20260722
SUMMARY:Ogłoszenie przyjętych – Podatki i doradztwo podatkowe
DESCRIPTION:Podatki i doradztwo podatkowe\nhttps://rekrutacja.ug.edu.pl/kierunek/podatki-i-doradztwo-podatkowe/
URL:https://rekrutacja.ug.edu.pl/kierunek/podatki-i-doradztwo-podatkowe/
END:VEVENT
END:VCALENDAR
