BEGIN:VCALENDAR
VERSION:2.0
PRODID:-//UG Rekrutacja//PL
CALSCALE:GREGORIAN
METHOD:PUBLISH
BEGIN:VEVENT
UID:ochrona-dobr-kultury-i-muzealnictwo-1091-0@ug.edu.pl
DTSTAMP:20260421T112013Z
DTSTART;VALUE=DATE:20260615
DTEND;VALUE=DATE:20260616
SUMMARY:Rozpoczęcie rejestracji – Ochrona dóbr kultury i muzealnictwo
DESCRIPTION:Ochrona dóbr kultury i muzealnictwo\nhttps://rekrutacja.ug.edu.pl/kierunek/ochrona-dobr-kultury-i-muzealnictwo/
URL:https://rekrutacja.ug.edu.pl/kierunek/ochrona-dobr-kultury-i-muzealnictwo/
END:VEVENT
BEGIN:VEVENT
UID:ochrona-dobr-kultury-i-muzealnictwo-1091-1@ug.edu.pl
DTSTAMP:20260421T112013Z
DTSTART;VALUE=DATE:20260715
DTEND;VALUE=DATE:20260716
SUMMARY:Zakończenie rejestracji – Ochrona dóbr kultury i muzealnictwo
DESCRIPTION:Ochrona dóbr kultury i muzealnictwo\nhttps://rekrutacja.ug.edu.pl/kierunek/ochrona-dobr-kultury-i-muzealnictwo/
URL:https://rekrutacja.ug.edu.pl/kierunek/ochrona-dobr-kultury-i-muzealnictwo/
END:VEVENT
BEGIN:VEVENT
UID:ochrona-dobr-kultury-i-muzealnictwo-1091-2@ug.edu.pl
DTSTAMP:20260421T112013Z
DTSTART;VALUE=DATE:20260716
DTEND;VALUE=DATE:20260717
SUMMARY:Egzaminy dla obcokrajowców – Ochrona dóbr kultury i muzealnictwo
DESCRIPTION:Ochrona dóbr kultury i muzealnictwo\nhttps://rekrutacja.ug.edu.pl/kierunek/ochrona-dobr-kultury-i-muzealnictwo/
URL:https://rekrutacja.ug.edu.pl/kierunek/ochrona-dobr-kultury-i-muzealnictwo/
END:VEVENT
BEGIN:VEVENT
UID:ochrona-dobr-kultury-i-muzealnictwo-1091-3@ug.edu.pl
DTSTAMP:20260421T112013Z
DTSTART;VALUE=DATE:20260717
DTEND;VALUE=DATE:20260718
SUMMARY:Ogłoszenie kandydatów – Ochrona dóbr kultury i muzealnictwo
DESCRIPTION:Ochrona dóbr kultury i muzealnictwo\nhttps://rekrutacja.ug.edu.pl/kierunek/ochrona-dobr-kultury-i-muzealnictwo/
URL:https://rekrutacja.ug.edu.pl/kierunek/ochrona-dobr-kultury-i-muzealnictwo/
END:VEVENT
BEGIN:VEVENT
UID:ochrona-dobr-kultury-i-muzealnictwo-1091-4@ug.edu.pl
DTSTAMP:20260421T112013Z
DTSTART;VALUE=DATE:20260720
DTEND;VALUE=DATE:20260721
SUMMARY:Składanie dokumentów – start – Ochrona dóbr kultury i muzealnictwo
DESCRIPTION:Ochrona dóbr kultury i muzealnictwo\nhttps://rekrutacja.ug.edu.pl/kierunek/ochrona-dobr-kultury-i-muzealnictwo/
URL:https://rekrutacja.ug.edu.pl/kierunek/ochrona-dobr-kultury-i-muzealnictwo/
END:VEVENT
BEGIN:VEVENT
UID:ochrona-dobr-kultury-i-muzealnictwo-1091-5@ug.edu.pl
DTSTAMP:20260421T112013Z
DTSTART;VALUE=DATE:20260723
DTEND;VALUE=DATE:20260724
SUMMARY:Składanie dokumentów – koniec – Ochrona dóbr kultury i muzealnictwo
DESCRIPTION:Ochrona dóbr kultury i muzealnictwo\nhttps://rekrutacja.ug.edu.pl/kierunek/ochrona-dobr-kultury-i-muzealnictwo/
URL:https://rekrutacja.ug.edu.pl/kierunek/ochrona-dobr-kultury-i-muzealnictwo/
END:VEVENT
BEGIN:VEVENT
UID:ochrona-dobr-kultury-i-muzealnictwo-1091-6@ug.edu.pl
DTSTAMP:20260421T112013Z
DTSTART;VALUE=DATE:20260724
DTEND;VALUE=DATE:20260725
SUMMARY:Ogłoszenie przyjętych – Ochrona dóbr kultury i muzealnictwo
DESCRIPTION:Ochrona dóbr kultury i muzealnictwo\nhttps://rekrutacja.ug.edu.pl/kierunek/ochrona-dobr-kultury-i-muzealnictwo/
URL:https://rekrutacja.ug.edu.pl/kierunek/ochrona-dobr-kultury-i-muzealnictwo/
END:VEVENT
END:VCALENDAR
