BEGIN:VCALENDAR
VERSION:2.0
PRODID:-//UG Rekrutacja//PL
CALSCALE:GREGORIAN
METHOD:PUBLISH
BEGIN:VEVENT
UID:miedzynarodowe-stosunki-gospodarcze-1098-0@ug.edu.pl
DTSTAMP:20260425T112842Z
DTSTART;VALUE=DATE:20260615
DTEND;VALUE=DATE:20260616
SUMMARY:Rozpoczęcie rejestracji – Międzynarodowe stosunki gospodarcze
DESCRIPTION:Międzynarodowe stosunki gospodarcze\nhttps://rekrutacja.ug.edu.pl/kierunek/miedzynarodowe-stosunki-gospodarcze-2/
URL:https://rekrutacja.ug.edu.pl/kierunek/miedzynarodowe-stosunki-gospodarcze-2/
END:VEVENT
BEGIN:VEVENT
UID:miedzynarodowe-stosunki-gospodarcze-1098-1@ug.edu.pl
DTSTAMP:20260425T112842Z
DTSTART;VALUE=DATE:20260714
DTEND;VALUE=DATE:20260715
SUMMARY:Zakończenie rejestracji – Międzynarodowe stosunki gospodarcze
DESCRIPTION:Międzynarodowe stosunki gospodarcze\nhttps://rekrutacja.ug.edu.pl/kierunek/miedzynarodowe-stosunki-gospodarcze-2/
URL:https://rekrutacja.ug.edu.pl/kierunek/miedzynarodowe-stosunki-gospodarcze-2/
END:VEVENT
BEGIN:VEVENT
UID:miedzynarodowe-stosunki-gospodarcze-1098-2@ug.edu.pl
DTSTAMP:20260425T112842Z
DTSTART;VALUE=DATE:20260715
DTEND;VALUE=DATE:20260716
SUMMARY:Egzaminy dla obcokrajowców – Międzynarodowe stosunki gospodarcze
DESCRIPTION:Międzynarodowe stosunki gospodarcze\nhttps://rekrutacja.ug.edu.pl/kierunek/miedzynarodowe-stosunki-gospodarcze-2/
URL:https://rekrutacja.ug.edu.pl/kierunek/miedzynarodowe-stosunki-gospodarcze-2/
END:VEVENT
BEGIN:VEVENT
UID:miedzynarodowe-stosunki-gospodarcze-1098-3@ug.edu.pl
DTSTAMP:20260425T112842Z
DTSTART;VALUE=DATE:20260717
DTEND;VALUE=DATE:20260718
SUMMARY:Ogłoszenie kandydatów – Międzynarodowe stosunki gospodarcze
DESCRIPTION:Międzynarodowe stosunki gospodarcze\nhttps://rekrutacja.ug.edu.pl/kierunek/miedzynarodowe-stosunki-gospodarcze-2/
URL:https://rekrutacja.ug.edu.pl/kierunek/miedzynarodowe-stosunki-gospodarcze-2/
END:VEVENT
BEGIN:VEVENT
UID:miedzynarodowe-stosunki-gospodarcze-1098-4@ug.edu.pl
DTSTAMP:20260425T112842Z
DTSTART;VALUE=DATE:20260718
DTEND;VALUE=DATE:20260719
SUMMARY:Składanie dokumentów – start – Międzynarodowe stosunki gospodarcze
DESCRIPTION:Międzynarodowe stosunki gospodarcze\nhttps://rekrutacja.ug.edu.pl/kierunek/miedzynarodowe-stosunki-gospodarcze-2/
URL:https://rekrutacja.ug.edu.pl/kierunek/miedzynarodowe-stosunki-gospodarcze-2/
END:VEVENT
BEGIN:VEVENT
UID:miedzynarodowe-stosunki-gospodarcze-1098-5@ug.edu.pl
DTSTAMP:20260425T112842Z
DTSTART;VALUE=DATE:20260722
DTEND;VALUE=DATE:20260723
SUMMARY:Składanie dokumentów – koniec – Międzynarodowe stosunki gospodarcze
DESCRIPTION:Międzynarodowe stosunki gospodarcze\nhttps://rekrutacja.ug.edu.pl/kierunek/miedzynarodowe-stosunki-gospodarcze-2/
URL:https://rekrutacja.ug.edu.pl/kierunek/miedzynarodowe-stosunki-gospodarcze-2/
END:VEVENT
BEGIN:VEVENT
UID:miedzynarodowe-stosunki-gospodarcze-1098-6@ug.edu.pl
DTSTAMP:20260425T112842Z
DTSTART;VALUE=DATE:20260723
DTEND;VALUE=DATE:20260724
SUMMARY:Ogłoszenie przyjętych – Międzynarodowe stosunki gospodarcze
DESCRIPTION:Międzynarodowe stosunki gospodarcze\nhttps://rekrutacja.ug.edu.pl/kierunek/miedzynarodowe-stosunki-gospodarcze-2/
URL:https://rekrutacja.ug.edu.pl/kierunek/miedzynarodowe-stosunki-gospodarcze-2/
END:VEVENT
END:VCALENDAR
