BEGIN:VCALENDAR
VERSION:2.0
PRODID:-//UG Rekrutacja//PL
CALSCALE:GREGORIAN
METHOD:PUBLISH
BEGIN:VEVENT
UID:logopedia-1106-0@ug.edu.pl
DTSTAMP:20260425T112843Z
DTSTART;VALUE=DATE:20260615
DTEND;VALUE=DATE:20260616
SUMMARY:Rozpoczęcie rejestracji – Logopedia
DESCRIPTION:Logopedia\nhttps://rekrutacja.ug.edu.pl/kierunek/logopedia/
URL:https://rekrutacja.ug.edu.pl/kierunek/logopedia/
END:VEVENT
BEGIN:VEVENT
UID:logopedia-1106-1@ug.edu.pl
DTSTAMP:20260425T112843Z
DTSTART;VALUE=DATE:20260712
DTEND;VALUE=DATE:20260713
SUMMARY:Zakończenie rejestracji – Logopedia
DESCRIPTION:Logopedia\nhttps://rekrutacja.ug.edu.pl/kierunek/logopedia/
URL:https://rekrutacja.ug.edu.pl/kierunek/logopedia/
END:VEVENT
BEGIN:VEVENT
UID:logopedia-1106-2@ug.edu.pl
DTSTAMP:20260425T112843Z
DTSTART;VALUE=DATE:20260714
DTEND;VALUE=DATE:20260715
SUMMARY:Egzamin – Logopedia
DESCRIPTION:Logopedia\nhttps://rekrutacja.ug.edu.pl/kierunek/logopedia/
URL:https://rekrutacja.ug.edu.pl/kierunek/logopedia/
END:VEVENT
BEGIN:VEVENT
UID:logopedia-1106-3@ug.edu.pl
DTSTAMP:20260425T112843Z
DTSTART;VALUE=DATE:20260716
DTEND;VALUE=DATE:20260717
SUMMARY:Ogłoszenie kandydatów – Logopedia
DESCRIPTION:Logopedia\nhttps://rekrutacja.ug.edu.pl/kierunek/logopedia/
URL:https://rekrutacja.ug.edu.pl/kierunek/logopedia/
END:VEVENT
BEGIN:VEVENT
UID:logopedia-1106-4@ug.edu.pl
DTSTAMP:20260425T112843Z
DTSTART;VALUE=DATE:20260717
DTEND;VALUE=DATE:20260718
SUMMARY:Składanie dokumentów – start – Logopedia
DESCRIPTION:Logopedia\nhttps://rekrutacja.ug.edu.pl/kierunek/logopedia/
URL:https://rekrutacja.ug.edu.pl/kierunek/logopedia/
END:VEVENT
BEGIN:VEVENT
UID:logopedia-1106-5@ug.edu.pl
DTSTAMP:20260425T112843Z
DTSTART;VALUE=DATE:20260722
DTEND;VALUE=DATE:20260723
SUMMARY:Składanie dokumentów – koniec – Logopedia
DESCRIPTION:Logopedia\nhttps://rekrutacja.ug.edu.pl/kierunek/logopedia/
URL:https://rekrutacja.ug.edu.pl/kierunek/logopedia/
END:VEVENT
BEGIN:VEVENT
UID:logopedia-1106-6@ug.edu.pl
DTSTAMP:20260425T112843Z
DTSTART;VALUE=DATE:20260723
DTEND;VALUE=DATE:20260724
SUMMARY:Ogłoszenie przyjętych – Logopedia
DESCRIPTION:Logopedia\nhttps://rekrutacja.ug.edu.pl/kierunek/logopedia/
URL:https://rekrutacja.ug.edu.pl/kierunek/logopedia/
END:VEVENT
END:VCALENDAR
