BEGIN:VCALENDAR
VERSION:2.0
PRODID:-//UG Rekrutacja//PL
CALSCALE:GREGORIAN
METHOD:PUBLISH
BEGIN:VEVENT
UID:international-business-1125-0@ug.edu.pl
DTSTAMP:20260425T112841Z
DTSTART;VALUE=DATE:20260615
DTEND;VALUE=DATE:20260616
SUMMARY:Rozpoczęcie rejestracji – International Business
DESCRIPTION:International Business\nhttps://rekrutacja.ug.edu.pl/kierunek/international-business-2/
URL:https://rekrutacja.ug.edu.pl/kierunek/international-business-2/
END:VEVENT
BEGIN:VEVENT
UID:international-business-1125-1@ug.edu.pl
DTSTAMP:20260425T112841Z
DTSTART;VALUE=DATE:20260714
DTEND;VALUE=DATE:20260715
SUMMARY:Zakończenie rejestracji – International Business
DESCRIPTION:International Business\nhttps://rekrutacja.ug.edu.pl/kierunek/international-business-2/
URL:https://rekrutacja.ug.edu.pl/kierunek/international-business-2/
END:VEVENT
BEGIN:VEVENT
UID:international-business-1125-2@ug.edu.pl
DTSTAMP:20260425T112841Z
DTSTART;VALUE=DATE:20260715
DTEND;VALUE=DATE:20260716
SUMMARY:Egzaminy dla obcokrajowców – International Business
DESCRIPTION:International Business\nhttps://rekrutacja.ug.edu.pl/kierunek/international-business-2/
URL:https://rekrutacja.ug.edu.pl/kierunek/international-business-2/
END:VEVENT
BEGIN:VEVENT
UID:international-business-1125-3@ug.edu.pl
DTSTAMP:20260425T112841Z
DTSTART;VALUE=DATE:20260717
DTEND;VALUE=DATE:20260718
SUMMARY:Ogłoszenie kandydatów – International Business
DESCRIPTION:International Business\nhttps://rekrutacja.ug.edu.pl/kierunek/international-business-2/
URL:https://rekrutacja.ug.edu.pl/kierunek/international-business-2/
END:VEVENT
BEGIN:VEVENT
UID:international-business-1125-4@ug.edu.pl
DTSTAMP:20260425T112841Z
DTSTART;VALUE=DATE:20260718
DTEND;VALUE=DATE:20260719
SUMMARY:Składanie dokumentów – start – International Business
DESCRIPTION:International Business\nhttps://rekrutacja.ug.edu.pl/kierunek/international-business-2/
URL:https://rekrutacja.ug.edu.pl/kierunek/international-business-2/
END:VEVENT
BEGIN:VEVENT
UID:international-business-1125-5@ug.edu.pl
DTSTAMP:20260425T112841Z
DTSTART;VALUE=DATE:20260722
DTEND;VALUE=DATE:20260723
SUMMARY:Składanie dokumentów – koniec – International Business
DESCRIPTION:International Business\nhttps://rekrutacja.ug.edu.pl/kierunek/international-business-2/
URL:https://rekrutacja.ug.edu.pl/kierunek/international-business-2/
END:VEVENT
BEGIN:VEVENT
UID:international-business-1125-6@ug.edu.pl
DTSTAMP:20260425T112841Z
DTSTART;VALUE=DATE:20260723
DTEND;VALUE=DATE:20260724
SUMMARY:Ogłoszenie przyjętych – International Business
DESCRIPTION:International Business\nhttps://rekrutacja.ug.edu.pl/kierunek/international-business-2/
URL:https://rekrutacja.ug.edu.pl/kierunek/international-business-2/
END:VEVENT
END:VCALENDAR
