BEGIN:VCALENDAR
VERSION:2.0
PRODID:-//UG Rekrutacja//PL
CALSCALE:GREGORIAN
METHOD:PUBLISH
BEGIN:VEVENT
UID:historia-sztuki-1144-0@ug.edu.pl
DTSTAMP:20260422T195613Z
DTSTART;VALUE=DATE:20260615
DTEND;VALUE=DATE:20260616
SUMMARY:Rozpoczęcie rejestracji – Historia sztuki
DESCRIPTION:Historia sztuki\nhttps://rekrutacja.ug.edu.pl/kierunek/historia-sztuki-2/
URL:https://rekrutacja.ug.edu.pl/kierunek/historia-sztuki-2/
END:VEVENT
BEGIN:VEVENT
UID:historia-sztuki-1144-1@ug.edu.pl
DTSTAMP:20260422T195613Z
DTSTART;VALUE=DATE:20260715
DTEND;VALUE=DATE:20260716
SUMMARY:Zakończenie rejestracji – Historia sztuki
DESCRIPTION:Historia sztuki\nhttps://rekrutacja.ug.edu.pl/kierunek/historia-sztuki-2/
URL:https://rekrutacja.ug.edu.pl/kierunek/historia-sztuki-2/
END:VEVENT
BEGIN:VEVENT
UID:historia-sztuki-1144-2@ug.edu.pl
DTSTAMP:20260422T195613Z
DTSTART;VALUE=DATE:20260716
DTEND;VALUE=DATE:20260717
SUMMARY:Egzaminy dla obcokrajowców – Historia sztuki
DESCRIPTION:Historia sztuki\nhttps://rekrutacja.ug.edu.pl/kierunek/historia-sztuki-2/
URL:https://rekrutacja.ug.edu.pl/kierunek/historia-sztuki-2/
END:VEVENT
BEGIN:VEVENT
UID:historia-sztuki-1144-3@ug.edu.pl
DTSTAMP:20260422T195613Z
DTSTART;VALUE=DATE:20260717
DTEND;VALUE=DATE:20260718
SUMMARY:Ogłoszenie kandydatów – Historia sztuki
DESCRIPTION:Historia sztuki\nhttps://rekrutacja.ug.edu.pl/kierunek/historia-sztuki-2/
URL:https://rekrutacja.ug.edu.pl/kierunek/historia-sztuki-2/
END:VEVENT
BEGIN:VEVENT
UID:historia-sztuki-1144-4@ug.edu.pl
DTSTAMP:20260422T195613Z
DTSTART;VALUE=DATE:20260720
DTEND;VALUE=DATE:20260721
SUMMARY:Składanie dokumentów – start – Historia sztuki
DESCRIPTION:Historia sztuki\nhttps://rekrutacja.ug.edu.pl/kierunek/historia-sztuki-2/
URL:https://rekrutacja.ug.edu.pl/kierunek/historia-sztuki-2/
END:VEVENT
BEGIN:VEVENT
UID:historia-sztuki-1144-5@ug.edu.pl
DTSTAMP:20260422T195613Z
DTSTART;VALUE=DATE:20260723
DTEND;VALUE=DATE:20260724
SUMMARY:Składanie dokumentów – koniec – Historia sztuki
DESCRIPTION:Historia sztuki\nhttps://rekrutacja.ug.edu.pl/kierunek/historia-sztuki-2/
URL:https://rekrutacja.ug.edu.pl/kierunek/historia-sztuki-2/
END:VEVENT
BEGIN:VEVENT
UID:historia-sztuki-1144-6@ug.edu.pl
DTSTAMP:20260422T195613Z
DTSTART;VALUE=DATE:20260724
DTEND;VALUE=DATE:20260725
SUMMARY:Ogłoszenie przyjętych – Historia sztuki
DESCRIPTION:Historia sztuki\nhttps://rekrutacja.ug.edu.pl/kierunek/historia-sztuki-2/
URL:https://rekrutacja.ug.edu.pl/kierunek/historia-sztuki-2/
END:VEVENT
END:VCALENDAR
