BEGIN:VCALENDAR
VERSION:2.0
PRODID:-//UG Rekrutacja//PL
CALSCALE:GREGORIAN
METHOD:PUBLISH
BEGIN:VEVENT
UID:historia-1147-0@ug.edu.pl
DTSTAMP:20260422T195612Z
DTSTART;VALUE=DATE:20260615
DTEND;VALUE=DATE:20260616
SUMMARY:Rozpoczęcie rejestracji – Historia
DESCRIPTION:Historia\nhttps://rekrutacja.ug.edu.pl/kierunek/historia-3/
URL:https://rekrutacja.ug.edu.pl/kierunek/historia-3/
END:VEVENT
BEGIN:VEVENT
UID:historia-1147-1@ug.edu.pl
DTSTAMP:20260422T195612Z
DTSTART;VALUE=DATE:20260712
DTEND;VALUE=DATE:20260713
SUMMARY:Zakończenie rejestracji – Historia
DESCRIPTION:Historia\nhttps://rekrutacja.ug.edu.pl/kierunek/historia-3/
URL:https://rekrutacja.ug.edu.pl/kierunek/historia-3/
END:VEVENT
BEGIN:VEVENT
UID:historia-1147-2@ug.edu.pl
DTSTAMP:20260422T195612Z
DTSTART;VALUE=DATE:20260713
DTEND;VALUE=DATE:20260714
SUMMARY:Egzaminy dla obcokrajowców – Historia
DESCRIPTION:Historia\nhttps://rekrutacja.ug.edu.pl/kierunek/historia-3/
URL:https://rekrutacja.ug.edu.pl/kierunek/historia-3/
END:VEVENT
BEGIN:VEVENT
UID:historia-1147-3@ug.edu.pl
DTSTAMP:20260422T195612Z
DTSTART;VALUE=DATE:20260714
DTEND;VALUE=DATE:20260715
SUMMARY:Ogłoszenie kandydatów – Historia
DESCRIPTION:Historia\nhttps://rekrutacja.ug.edu.pl/kierunek/historia-3/
URL:https://rekrutacja.ug.edu.pl/kierunek/historia-3/
END:VEVENT
BEGIN:VEVENT
UID:historia-1147-4@ug.edu.pl
DTSTAMP:20260422T195612Z
DTSTART;VALUE=DATE:20260715
DTEND;VALUE=DATE:20260716
SUMMARY:Składanie dokumentów – start – Historia
DESCRIPTION:Historia\nhttps://rekrutacja.ug.edu.pl/kierunek/historia-3/
URL:https://rekrutacja.ug.edu.pl/kierunek/historia-3/
END:VEVENT
BEGIN:VEVENT
UID:historia-1147-5@ug.edu.pl
DTSTAMP:20260422T195612Z
DTSTART;VALUE=DATE:20260720
DTEND;VALUE=DATE:20260721
SUMMARY:Składanie dokumentów – koniec – Historia
DESCRIPTION:Historia\nhttps://rekrutacja.ug.edu.pl/kierunek/historia-3/
URL:https://rekrutacja.ug.edu.pl/kierunek/historia-3/
END:VEVENT
BEGIN:VEVENT
UID:historia-1147-6@ug.edu.pl
DTSTAMP:20260422T195612Z
DTSTART;VALUE=DATE:20260721
DTEND;VALUE=DATE:20260722
SUMMARY:Ogłoszenie przyjętych – Historia
DESCRIPTION:Historia\nhttps://rekrutacja.ug.edu.pl/kierunek/historia-3/
URL:https://rekrutacja.ug.edu.pl/kierunek/historia-3/
END:VEVENT
END:VCALENDAR
