BEGIN:VCALENDAR
VERSION:2.0
PRODID:-//UG Rekrutacja//PL
CALSCALE:GREGORIAN
METHOD:PUBLISH
BEGIN:VEVENT
UID:filologia-romanska-z-drugim-jezykiem-romanskim-1177-0@ug.edu.pl
DTSTAMP:20260420T144912Z
DTSTART;VALUE=DATE:20260615
DTEND;VALUE=DATE:20260616
SUMMARY:Rozpoczęcie rejestracji – Filologia romańska (z drugim językiem romańskim)
DESCRIPTION:Filologia romańska (z drugim językiem romańskim)\nhttps://rekrutacja.ug.edu.pl/kierunek/filologia-romanska-z-drugim-jezykiem-romanskim/
URL:https://rekrutacja.ug.edu.pl/kierunek/filologia-romanska-z-drugim-jezykiem-romanskim/
END:VEVENT
BEGIN:VEVENT
UID:filologia-romanska-z-drugim-jezykiem-romanskim-1177-1@ug.edu.pl
DTSTAMP:20260420T144912Z
DTSTART;VALUE=DATE:20260710
DTEND;VALUE=DATE:20260711
SUMMARY:Zakończenie rejestracji – Filologia romańska (z drugim językiem romańskim)
DESCRIPTION:Filologia romańska (z drugim językiem romańskim)\nhttps://rekrutacja.ug.edu.pl/kierunek/filologia-romanska-z-drugim-jezykiem-romanskim/
URL:https://rekrutacja.ug.edu.pl/kierunek/filologia-romanska-z-drugim-jezykiem-romanskim/
END:VEVENT
BEGIN:VEVENT
UID:filologia-romanska-z-drugim-jezykiem-romanskim-1177-2@ug.edu.pl
DTSTAMP:20260420T144912Z
DTSTART;VALUE=DATE:20260713
DTEND;VALUE=DATE:20260714
SUMMARY:Egzaminy dla obcokrajowców – Filologia romańska (z drugim językiem romańskim)
DESCRIPTION:Filologia romańska (z drugim językiem romańskim)\nhttps://rekrutacja.ug.edu.pl/kierunek/filologia-romanska-z-drugim-jezykiem-romanskim/
URL:https://rekrutacja.ug.edu.pl/kierunek/filologia-romanska-z-drugim-jezykiem-romanskim/
END:VEVENT
BEGIN:VEVENT
UID:filologia-romanska-z-drugim-jezykiem-romanskim-1177-3@ug.edu.pl
DTSTAMP:20260420T144912Z
DTSTART;VALUE=DATE:20260714
DTEND;VALUE=DATE:20260715
SUMMARY:Ogłoszenie kandydatów – Filologia romańska (z drugim językiem romańskim)
DESCRIPTION:Filologia romańska (z drugim językiem romańskim)\nhttps://rekrutacja.ug.edu.pl/kierunek/filologia-romanska-z-drugim-jezykiem-romanskim/
URL:https://rekrutacja.ug.edu.pl/kierunek/filologia-romanska-z-drugim-jezykiem-romanskim/
END:VEVENT
BEGIN:VEVENT
UID:filologia-romanska-z-drugim-jezykiem-romanskim-1177-4@ug.edu.pl
DTSTAMP:20260420T144912Z
DTSTART;VALUE=DATE:20260715
DTEND;VALUE=DATE:20260716
SUMMARY:Składanie dokumentów – start – Filologia romańska (z drugim językiem romańskim)
DESCRIPTION:Filologia romańska (z drugim językiem romańskim)\nhttps://rekrutacja.ug.edu.pl/kierunek/filologia-romanska-z-drugim-jezykiem-romanskim/
URL:https://rekrutacja.ug.edu.pl/kierunek/filologia-romanska-z-drugim-jezykiem-romanskim/
END:VEVENT
BEGIN:VEVENT
UID:filologia-romanska-z-drugim-jezykiem-romanskim-1177-5@ug.edu.pl
DTSTAMP:20260420T144912Z
DTSTART;VALUE=DATE:20260720
DTEND;VALUE=DATE:20260721
SUMMARY:Składanie dokumentów – koniec – Filologia romańska (z drugim językiem romańskim)
DESCRIPTION:Filologia romańska (z drugim językiem romańskim)\nhttps://rekrutacja.ug.edu.pl/kierunek/filologia-romanska-z-drugim-jezykiem-romanskim/
URL:https://rekrutacja.ug.edu.pl/kierunek/filologia-romanska-z-drugim-jezykiem-romanskim/
END:VEVENT
BEGIN:VEVENT
UID:filologia-romanska-z-drugim-jezykiem-romanskim-1177-6@ug.edu.pl
DTSTAMP:20260420T144912Z
DTSTART;VALUE=DATE:20260721
DTEND;VALUE=DATE:20260722
SUMMARY:Ogłoszenie przyjętych – Filologia romańska (z drugim językiem romańskim)
DESCRIPTION:Filologia romańska (z drugim językiem romańskim)\nhttps://rekrutacja.ug.edu.pl/kierunek/filologia-romanska-z-drugim-jezykiem-romanskim/
URL:https://rekrutacja.ug.edu.pl/kierunek/filologia-romanska-z-drugim-jezykiem-romanskim/
END:VEVENT
END:VCALENDAR
