BEGIN:VCALENDAR
VERSION:2.0
PRODID:-//UG Rekrutacja//PL
CALSCALE:GREGORIAN
METHOD:PUBLISH
BEGIN:VEVENT
UID:biotechnologia-1210-0@ug.edu.pl
DTSTAMP:20260419T205754Z
DTSTART;VALUE=DATE:20260615
DTEND;VALUE=DATE:20260616
SUMMARY:Rozpoczęcie rejestracji – Biotechnologia
DESCRIPTION:Biotechnologia\nhttps://rekrutacja.ug.edu.pl/kierunek/biotechnologia-2/
URL:https://rekrutacja.ug.edu.pl/kierunek/biotechnologia-2/
END:VEVENT
BEGIN:VEVENT
UID:biotechnologia-1210-1@ug.edu.pl
DTSTAMP:20260419T205754Z
DTSTART;VALUE=DATE:20260712
DTEND;VALUE=DATE:20260713
SUMMARY:Zakończenie rejestracji – Biotechnologia
DESCRIPTION:Biotechnologia\nhttps://rekrutacja.ug.edu.pl/kierunek/biotechnologia-2/
URL:https://rekrutacja.ug.edu.pl/kierunek/biotechnologia-2/
END:VEVENT
BEGIN:VEVENT
UID:biotechnologia-1210-2@ug.edu.pl
DTSTAMP:20260419T205754Z
DTSTART;VALUE=DATE:20260714
DTEND;VALUE=DATE:20260715
SUMMARY:Egzaminy dla obcokrajowców – Biotechnologia
DESCRIPTION:Biotechnologia\nhttps://rekrutacja.ug.edu.pl/kierunek/biotechnologia-2/
URL:https://rekrutacja.ug.edu.pl/kierunek/biotechnologia-2/
END:VEVENT
BEGIN:VEVENT
UID:biotechnologia-1210-3@ug.edu.pl
DTSTAMP:20260419T205754Z
DTSTART;VALUE=DATE:20260714
DTEND;VALUE=DATE:20260715
SUMMARY:Ogłoszenie kandydatów – Biotechnologia
DESCRIPTION:Biotechnologia\nhttps://rekrutacja.ug.edu.pl/kierunek/biotechnologia-2/
URL:https://rekrutacja.ug.edu.pl/kierunek/biotechnologia-2/
END:VEVENT
BEGIN:VEVENT
UID:biotechnologia-1210-4@ug.edu.pl
DTSTAMP:20260419T205754Z
DTSTART;VALUE=DATE:20260715
DTEND;VALUE=DATE:20260716
SUMMARY:Składanie dokumentów – start – Biotechnologia
DESCRIPTION:Biotechnologia\nhttps://rekrutacja.ug.edu.pl/kierunek/biotechnologia-2/
URL:https://rekrutacja.ug.edu.pl/kierunek/biotechnologia-2/
END:VEVENT
BEGIN:VEVENT
UID:biotechnologia-1210-5@ug.edu.pl
DTSTAMP:20260419T205754Z
DTSTART;VALUE=DATE:20260720
DTEND;VALUE=DATE:20260721
SUMMARY:Składanie dokumentów – koniec – Biotechnologia
DESCRIPTION:Biotechnologia\nhttps://rekrutacja.ug.edu.pl/kierunek/biotechnologia-2/
URL:https://rekrutacja.ug.edu.pl/kierunek/biotechnologia-2/
END:VEVENT
BEGIN:VEVENT
UID:biotechnologia-1210-6@ug.edu.pl
DTSTAMP:20260419T205754Z
DTSTART;VALUE=DATE:20260721
DTEND;VALUE=DATE:20260722
SUMMARY:Ogłoszenie przyjętych – Biotechnologia
DESCRIPTION:Biotechnologia\nhttps://rekrutacja.ug.edu.pl/kierunek/biotechnologia-2/
URL:https://rekrutacja.ug.edu.pl/kierunek/biotechnologia-2/
END:VEVENT
END:VCALENDAR
