BEGIN:VCALENDAR
VERSION:2.0
PRODID:-//UG Rekrutacja//PL
CALSCALE:GREGORIAN
METHOD:PUBLISH
BEGIN:VEVENT
UID:bezpieczenstwo-narodowe-1216-0@ug.edu.pl
DTSTAMP:20260420T162743Z
DTSTART;VALUE=DATE:20260615
DTEND;VALUE=DATE:20260616
SUMMARY:Rozpoczęcie rejestracji – Bezpieczeństwo narodowe
DESCRIPTION:Bezpieczeństwo narodowe\nhttps://rekrutacja.ug.edu.pl/kierunek/bezpieczenstwo-narodowe/
URL:https://rekrutacja.ug.edu.pl/kierunek/bezpieczenstwo-narodowe/
END:VEVENT
BEGIN:VEVENT
UID:bezpieczenstwo-narodowe-1216-1@ug.edu.pl
DTSTAMP:20260420T162743Z
DTSTART;VALUE=DATE:20260813
DTEND;VALUE=DATE:20260814
SUMMARY:Zakończenie rejestracji – Bezpieczeństwo narodowe
DESCRIPTION:Bezpieczeństwo narodowe\nhttps://rekrutacja.ug.edu.pl/kierunek/bezpieczenstwo-narodowe/
URL:https://rekrutacja.ug.edu.pl/kierunek/bezpieczenstwo-narodowe/
END:VEVENT
BEGIN:VEVENT
UID:bezpieczenstwo-narodowe-1216-2@ug.edu.pl
DTSTAMP:20260420T162743Z
DTSTART;VALUE=DATE:20260818
DTEND;VALUE=DATE:20260819
SUMMARY:Ogłoszenie kandydatów – Bezpieczeństwo narodowe
DESCRIPTION:Bezpieczeństwo narodowe\nhttps://rekrutacja.ug.edu.pl/kierunek/bezpieczenstwo-narodowe/
URL:https://rekrutacja.ug.edu.pl/kierunek/bezpieczenstwo-narodowe/
END:VEVENT
BEGIN:VEVENT
UID:bezpieczenstwo-narodowe-1216-3@ug.edu.pl
DTSTAMP:20260420T162743Z
DTSTART;VALUE=DATE:20260819
DTEND;VALUE=DATE:20260820
SUMMARY:Składanie dokumentów – start – Bezpieczeństwo narodowe
DESCRIPTION:Bezpieczeństwo narodowe\nhttps://rekrutacja.ug.edu.pl/kierunek/bezpieczenstwo-narodowe/
URL:https://rekrutacja.ug.edu.pl/kierunek/bezpieczenstwo-narodowe/
END:VEVENT
BEGIN:VEVENT
UID:bezpieczenstwo-narodowe-1216-4@ug.edu.pl
DTSTAMP:20260420T162743Z
DTSTART;VALUE=DATE:20260824
DTEND;VALUE=DATE:20260825
SUMMARY:Składanie dokumentów – koniec – Bezpieczeństwo narodowe
DESCRIPTION:Bezpieczeństwo narodowe\nhttps://rekrutacja.ug.edu.pl/kierunek/bezpieczenstwo-narodowe/
URL:https://rekrutacja.ug.edu.pl/kierunek/bezpieczenstwo-narodowe/
END:VEVENT
BEGIN:VEVENT
UID:bezpieczenstwo-narodowe-1216-5@ug.edu.pl
DTSTAMP:20260420T162743Z
DTSTART;VALUE=DATE:20260825
DTEND;VALUE=DATE:20260826
SUMMARY:Ogłoszenie przyjętych – Bezpieczeństwo narodowe
DESCRIPTION:Bezpieczeństwo narodowe\nhttps://rekrutacja.ug.edu.pl/kierunek/bezpieczenstwo-narodowe/
URL:https://rekrutacja.ug.edu.pl/kierunek/bezpieczenstwo-narodowe/
END:VEVENT
END:VCALENDAR
