BEGIN:VCALENDAR
VERSION:2.0
PRODID:-//UG Rekrutacja//PL
CALSCALE:GREGORIAN
METHOD:PUBLISH
BEGIN:VEVENT
UID:bezpieczenstwo-jadrowe-i-ochrona-radiologiczna-1218-0@ug.edu.pl
DTSTAMP:20260420T133424Z
DTSTART;VALUE=DATE:20260615
DTEND;VALUE=DATE:20260616
SUMMARY:Rozpoczęcie rejestracji – Bezpieczeństwo jądrowe i ochrona radiologiczna
DESCRIPTION:Bezpieczeństwo jądrowe i ochrona radiologiczna\nhttps://rekrutacja.ug.edu.pl/kierunek/bezpieczenstwo-jadrowe-i-ochrona-radiologiczna/
URL:https://rekrutacja.ug.edu.pl/kierunek/bezpieczenstwo-jadrowe-i-ochrona-radiologiczna/
END:VEVENT
BEGIN:VEVENT
UID:bezpieczenstwo-jadrowe-i-ochrona-radiologiczna-1218-1@ug.edu.pl
DTSTAMP:20260420T133424Z
DTSTART;VALUE=DATE:20260713
DTEND;VALUE=DATE:20260714
SUMMARY:Zakończenie rejestracji – Bezpieczeństwo jądrowe i ochrona radiologiczna
DESCRIPTION:Bezpieczeństwo jądrowe i ochrona radiologiczna\nhttps://rekrutacja.ug.edu.pl/kierunek/bezpieczenstwo-jadrowe-i-ochrona-radiologiczna/
URL:https://rekrutacja.ug.edu.pl/kierunek/bezpieczenstwo-jadrowe-i-ochrona-radiologiczna/
END:VEVENT
BEGIN:VEVENT
UID:bezpieczenstwo-jadrowe-i-ochrona-radiologiczna-1218-2@ug.edu.pl
DTSTAMP:20260420T133424Z
DTSTART;VALUE=DATE:20260714
DTEND;VALUE=DATE:20260715
SUMMARY:Egzaminy dla obcokrajowców – Bezpieczeństwo jądrowe i ochrona radiologiczna
DESCRIPTION:Bezpieczeństwo jądrowe i ochrona radiologiczna\nhttps://rekrutacja.ug.edu.pl/kierunek/bezpieczenstwo-jadrowe-i-ochrona-radiologiczna/
URL:https://rekrutacja.ug.edu.pl/kierunek/bezpieczenstwo-jadrowe-i-ochrona-radiologiczna/
END:VEVENT
BEGIN:VEVENT
UID:bezpieczenstwo-jadrowe-i-ochrona-radiologiczna-1218-3@ug.edu.pl
DTSTAMP:20260420T133424Z
DTSTART;VALUE=DATE:20260715
DTEND;VALUE=DATE:20260716
SUMMARY:Ogłoszenie kandydatów – Bezpieczeństwo jądrowe i ochrona radiologiczna
DESCRIPTION:Bezpieczeństwo jądrowe i ochrona radiologiczna\nhttps://rekrutacja.ug.edu.pl/kierunek/bezpieczenstwo-jadrowe-i-ochrona-radiologiczna/
URL:https://rekrutacja.ug.edu.pl/kierunek/bezpieczenstwo-jadrowe-i-ochrona-radiologiczna/
END:VEVENT
BEGIN:VEVENT
UID:bezpieczenstwo-jadrowe-i-ochrona-radiologiczna-1218-4@ug.edu.pl
DTSTAMP:20260420T133424Z
DTSTART;VALUE=DATE:20260716
DTEND;VALUE=DATE:20260717
SUMMARY:Składanie dokumentów – start – Bezpieczeństwo jądrowe i ochrona radiologiczna
DESCRIPTION:Bezpieczeństwo jądrowe i ochrona radiologiczna\nhttps://rekrutacja.ug.edu.pl/kierunek/bezpieczenstwo-jadrowe-i-ochrona-radiologiczna/
URL:https://rekrutacja.ug.edu.pl/kierunek/bezpieczenstwo-jadrowe-i-ochrona-radiologiczna/
END:VEVENT
BEGIN:VEVENT
UID:bezpieczenstwo-jadrowe-i-ochrona-radiologiczna-1218-5@ug.edu.pl
DTSTAMP:20260420T133424Z
DTSTART;VALUE=DATE:20260721
DTEND;VALUE=DATE:20260722
SUMMARY:Składanie dokumentów – koniec – Bezpieczeństwo jądrowe i ochrona radiologiczna
DESCRIPTION:Bezpieczeństwo jądrowe i ochrona radiologiczna\nhttps://rekrutacja.ug.edu.pl/kierunek/bezpieczenstwo-jadrowe-i-ochrona-radiologiczna/
URL:https://rekrutacja.ug.edu.pl/kierunek/bezpieczenstwo-jadrowe-i-ochrona-radiologiczna/
END:VEVENT
BEGIN:VEVENT
UID:bezpieczenstwo-jadrowe-i-ochrona-radiologiczna-1218-6@ug.edu.pl
DTSTAMP:20260420T133424Z
DTSTART;VALUE=DATE:20260722
DTEND;VALUE=DATE:20260723
SUMMARY:Ogłoszenie przyjętych – Bezpieczeństwo jądrowe i ochrona radiologiczna
DESCRIPTION:Bezpieczeństwo jądrowe i ochrona radiologiczna\nhttps://rekrutacja.ug.edu.pl/kierunek/bezpieczenstwo-jadrowe-i-ochrona-radiologiczna/
URL:https://rekrutacja.ug.edu.pl/kierunek/bezpieczenstwo-jadrowe-i-ochrona-radiologiczna/
END:VEVENT
END:VCALENDAR
