BEGIN:VCALENDAR
VERSION:2.0
PRODID:-//UG Rekrutacja//PL
CALSCALE:GREGORIAN
METHOD:PUBLISH
BEGIN:VEVENT
UID:analityka-kryminalistyczna-1219-0@ug.edu.pl
DTSTAMP:20260420T162743Z
DTSTART;VALUE=DATE:20260615
DTEND;VALUE=DATE:20260616
SUMMARY:Rozpoczęcie rejestracji – Analityka kryminalistyczna
DESCRIPTION:Analityka kryminalistyczna\nhttps://rekrutacja.ug.edu.pl/kierunek/analityka-kryminalistyczna/
URL:https://rekrutacja.ug.edu.pl/kierunek/analityka-kryminalistyczna/
END:VEVENT
BEGIN:VEVENT
UID:analityka-kryminalistyczna-1219-1@ug.edu.pl
DTSTAMP:20260420T162743Z
DTSTART;VALUE=DATE:20260710
DTEND;VALUE=DATE:20260711
SUMMARY:Zakończenie rejestracji – Analityka kryminalistyczna
DESCRIPTION:Analityka kryminalistyczna\nhttps://rekrutacja.ug.edu.pl/kierunek/analityka-kryminalistyczna/
URL:https://rekrutacja.ug.edu.pl/kierunek/analityka-kryminalistyczna/
END:VEVENT
BEGIN:VEVENT
UID:analityka-kryminalistyczna-1219-2@ug.edu.pl
DTSTAMP:20260420T162743Z
DTSTART;VALUE=DATE:20260713
DTEND;VALUE=DATE:20260714
SUMMARY:Egzaminy dla obcokrajowców – Analityka kryminalistyczna
DESCRIPTION:Analityka kryminalistyczna\nhttps://rekrutacja.ug.edu.pl/kierunek/analityka-kryminalistyczna/
URL:https://rekrutacja.ug.edu.pl/kierunek/analityka-kryminalistyczna/
END:VEVENT
BEGIN:VEVENT
UID:analityka-kryminalistyczna-1219-3@ug.edu.pl
DTSTAMP:20260420T162743Z
DTSTART;VALUE=DATE:20260713
DTEND;VALUE=DATE:20260714
SUMMARY:Ogłoszenie kandydatów – Analityka kryminalistyczna
DESCRIPTION:Analityka kryminalistyczna\nhttps://rekrutacja.ug.edu.pl/kierunek/analityka-kryminalistyczna/
URL:https://rekrutacja.ug.edu.pl/kierunek/analityka-kryminalistyczna/
END:VEVENT
BEGIN:VEVENT
UID:analityka-kryminalistyczna-1219-4@ug.edu.pl
DTSTAMP:20260420T162743Z
DTSTART;VALUE=DATE:20260714
DTEND;VALUE=DATE:20260715
SUMMARY:Składanie dokumentów – start – Analityka kryminalistyczna
DESCRIPTION:Analityka kryminalistyczna\nhttps://rekrutacja.ug.edu.pl/kierunek/analityka-kryminalistyczna/
URL:https://rekrutacja.ug.edu.pl/kierunek/analityka-kryminalistyczna/
END:VEVENT
BEGIN:VEVENT
UID:analityka-kryminalistyczna-1219-5@ug.edu.pl
DTSTAMP:20260420T162743Z
DTSTART;VALUE=DATE:20260717
DTEND;VALUE=DATE:20260718
SUMMARY:Składanie dokumentów – koniec – Analityka kryminalistyczna
DESCRIPTION:Analityka kryminalistyczna\nhttps://rekrutacja.ug.edu.pl/kierunek/analityka-kryminalistyczna/
URL:https://rekrutacja.ug.edu.pl/kierunek/analityka-kryminalistyczna/
END:VEVENT
BEGIN:VEVENT
UID:analityka-kryminalistyczna-1219-6@ug.edu.pl
DTSTAMP:20260420T162743Z
DTSTART;VALUE=DATE:20260720
DTEND;VALUE=DATE:20260721
SUMMARY:Ogłoszenie przyjętych – Analityka kryminalistyczna
DESCRIPTION:Analityka kryminalistyczna\nhttps://rekrutacja.ug.edu.pl/kierunek/analityka-kryminalistyczna/
URL:https://rekrutacja.ug.edu.pl/kierunek/analityka-kryminalistyczna/
END:VEVENT
END:VCALENDAR
