BEGIN:VCALENDAR
VERSION:2.0
PRODID:-//UG Rekrutacja//PL
CALSCALE:GREGORIAN
METHOD:PUBLISH
BEGIN:VEVENT
UID:administracja-1223-0@ug.edu.pl
DTSTAMP:20260420T162743Z
DTSTART;VALUE=DATE:20260615
DTEND;VALUE=DATE:20260616
SUMMARY:Rozpoczęcie rejestracji – Administracja
DESCRIPTION:Administracja\nhttps://rekrutacja.ug.edu.pl/kierunek/administracja/
URL:https://rekrutacja.ug.edu.pl/kierunek/administracja/
END:VEVENT
BEGIN:VEVENT
UID:administracja-1223-1@ug.edu.pl
DTSTAMP:20260420T162743Z
DTSTART;VALUE=DATE:20260830
DTEND;VALUE=DATE:20260831
SUMMARY:Zakończenie rejestracji – Administracja
DESCRIPTION:Administracja\nhttps://rekrutacja.ug.edu.pl/kierunek/administracja/
URL:https://rekrutacja.ug.edu.pl/kierunek/administracja/
END:VEVENT
BEGIN:VEVENT
UID:administracja-1223-2@ug.edu.pl
DTSTAMP:20260420T162743Z
DTSTART;VALUE=DATE:20260901
DTEND;VALUE=DATE:20260902
SUMMARY:Ogłoszenie kandydatów – Administracja
DESCRIPTION:Administracja\nhttps://rekrutacja.ug.edu.pl/kierunek/administracja/
URL:https://rekrutacja.ug.edu.pl/kierunek/administracja/
END:VEVENT
BEGIN:VEVENT
UID:administracja-1223-3@ug.edu.pl
DTSTAMP:20260420T162743Z
DTSTART;VALUE=DATE:20260902
DTEND;VALUE=DATE:20260903
SUMMARY:Składanie dokumentów – start – Administracja
DESCRIPTION:Administracja\nhttps://rekrutacja.ug.edu.pl/kierunek/administracja/
URL:https://rekrutacja.ug.edu.pl/kierunek/administracja/
END:VEVENT
BEGIN:VEVENT
UID:administracja-1223-4@ug.edu.pl
DTSTAMP:20260420T162743Z
DTSTART;VALUE=DATE:20260907
DTEND;VALUE=DATE:20260908
SUMMARY:Składanie dokumentów – koniec – Administracja
DESCRIPTION:Administracja\nhttps://rekrutacja.ug.edu.pl/kierunek/administracja/
URL:https://rekrutacja.ug.edu.pl/kierunek/administracja/
END:VEVENT
BEGIN:VEVENT
UID:administracja-1223-5@ug.edu.pl
DTSTAMP:20260420T162743Z
DTSTART;VALUE=DATE:20260908
DTEND;VALUE=DATE:20260909
SUMMARY:Ogłoszenie przyjętych – Administracja
DESCRIPTION:Administracja\nhttps://rekrutacja.ug.edu.pl/kierunek/administracja/
URL:https://rekrutacja.ug.edu.pl/kierunek/administracja/
END:VEVENT
END:VCALENDAR
