BEGIN:VCALENDAR
VERSION:2.0
PRODID:-//UG Rekrutacja//PL
CALSCALE:GREGORIAN
METHOD:PUBLISH
BEGIN:VEVENT
UID:administracja-1225-0@ug.edu.pl
DTSTAMP:20260420T162743Z
DTSTART;VALUE=DATE:20260615
DTEND;VALUE=DATE:20260616
SUMMARY:Rozpoczęcie rejestracji – Administracja
DESCRIPTION:Administracja\nhttps://rekrutacja.ug.edu.pl/kierunek/administracja-3/
URL:https://rekrutacja.ug.edu.pl/kierunek/administracja-3/
END:VEVENT
BEGIN:VEVENT
UID:administracja-1225-1@ug.edu.pl
DTSTAMP:20260420T162743Z
DTSTART;VALUE=DATE:20260721
DTEND;VALUE=DATE:20260722
SUMMARY:Zakończenie rejestracji – Administracja
DESCRIPTION:Administracja\nhttps://rekrutacja.ug.edu.pl/kierunek/administracja-3/
URL:https://rekrutacja.ug.edu.pl/kierunek/administracja-3/
END:VEVENT
BEGIN:VEVENT
UID:administracja-1225-2@ug.edu.pl
DTSTAMP:20260420T162743Z
DTSTART;VALUE=DATE:20260722
DTEND;VALUE=DATE:20260723
SUMMARY:Egzaminy dla obcokrajowców – Administracja
DESCRIPTION:Administracja\nhttps://rekrutacja.ug.edu.pl/kierunek/administracja-3/
URL:https://rekrutacja.ug.edu.pl/kierunek/administracja-3/
END:VEVENT
BEGIN:VEVENT
UID:administracja-1225-3@ug.edu.pl
DTSTAMP:20260420T162743Z
DTSTART;VALUE=DATE:20260723
DTEND;VALUE=DATE:20260724
SUMMARY:Ogłoszenie kandydatów – Administracja
DESCRIPTION:Administracja\nhttps://rekrutacja.ug.edu.pl/kierunek/administracja-3/
URL:https://rekrutacja.ug.edu.pl/kierunek/administracja-3/
END:VEVENT
BEGIN:VEVENT
UID:administracja-1225-4@ug.edu.pl
DTSTAMP:20260420T162743Z
DTSTART;VALUE=DATE:20260724
DTEND;VALUE=DATE:20260725
SUMMARY:Składanie dokumentów – start – Administracja
DESCRIPTION:Administracja\nhttps://rekrutacja.ug.edu.pl/kierunek/administracja-3/
URL:https://rekrutacja.ug.edu.pl/kierunek/administracja-3/
END:VEVENT
BEGIN:VEVENT
UID:administracja-1225-5@ug.edu.pl
DTSTAMP:20260420T162743Z
DTSTART;VALUE=DATE:20260728
DTEND;VALUE=DATE:20260729
SUMMARY:Składanie dokumentów – koniec – Administracja
DESCRIPTION:Administracja\nhttps://rekrutacja.ug.edu.pl/kierunek/administracja-3/
URL:https://rekrutacja.ug.edu.pl/kierunek/administracja-3/
END:VEVENT
BEGIN:VEVENT
UID:administracja-1225-6@ug.edu.pl
DTSTAMP:20260420T162743Z
DTSTART;VALUE=DATE:20260729
DTEND;VALUE=DATE:20260730
SUMMARY:Ogłoszenie przyjętych – Administracja
DESCRIPTION:Administracja\nhttps://rekrutacja.ug.edu.pl/kierunek/administracja-3/
URL:https://rekrutacja.ug.edu.pl/kierunek/administracja-3/
END:VEVENT
END:VCALENDAR
