BEGIN:VCALENDAR
VERSION:2.0
PRODID:-//UG Rekrutacja//PL
CALSCALE:GREGORIAN
METHOD:PUBLISH
BEGIN:VEVENT
UID:archeologia-1226-0@ug.edu.pl
DTSTAMP:20260420T162743Z
DTSTART;VALUE=DATE:20260615
DTEND;VALUE=DATE:20260616
SUMMARY:Rozpoczęcie rejestracji – Archeologia
DESCRIPTION:Archeologia\nhttps://rekrutacja.ug.edu.pl/kierunek/archeologia/
URL:https://rekrutacja.ug.edu.pl/kierunek/archeologia/
END:VEVENT
BEGIN:VEVENT
UID:archeologia-1226-1@ug.edu.pl
DTSTAMP:20260420T162743Z
DTSTART;VALUE=DATE:20260916
DTEND;VALUE=DATE:20260917
SUMMARY:Zakończenie rejestracji – Archeologia
DESCRIPTION:Archeologia\nhttps://rekrutacja.ug.edu.pl/kierunek/archeologia/
URL:https://rekrutacja.ug.edu.pl/kierunek/archeologia/
END:VEVENT
BEGIN:VEVENT
UID:archeologia-1226-2@ug.edu.pl
DTSTAMP:20260420T162743Z
DTSTART;VALUE=DATE:20260918
DTEND;VALUE=DATE:20260919
SUMMARY:Ogłoszenie kandydatów – Archeologia
DESCRIPTION:Archeologia\nhttps://rekrutacja.ug.edu.pl/kierunek/archeologia/
URL:https://rekrutacja.ug.edu.pl/kierunek/archeologia/
END:VEVENT
BEGIN:VEVENT
UID:archeologia-1226-3@ug.edu.pl
DTSTAMP:20260420T162743Z
DTSTART;VALUE=DATE:20260921
DTEND;VALUE=DATE:20260922
SUMMARY:Składanie dokumentów – start – Archeologia
DESCRIPTION:Archeologia\nhttps://rekrutacja.ug.edu.pl/kierunek/archeologia/
URL:https://rekrutacja.ug.edu.pl/kierunek/archeologia/
END:VEVENT
BEGIN:VEVENT
UID:archeologia-1226-4@ug.edu.pl
DTSTAMP:20260420T162743Z
DTSTART;VALUE=DATE:20260924
DTEND;VALUE=DATE:20260925
SUMMARY:Składanie dokumentów – koniec – Archeologia
DESCRIPTION:Archeologia\nhttps://rekrutacja.ug.edu.pl/kierunek/archeologia/
URL:https://rekrutacja.ug.edu.pl/kierunek/archeologia/
END:VEVENT
BEGIN:VEVENT
UID:archeologia-1226-5@ug.edu.pl
DTSTAMP:20260420T162743Z
DTSTART;VALUE=DATE:20260925
DTEND;VALUE=DATE:20260926
SUMMARY:Ogłoszenie przyjętych – Archeologia
DESCRIPTION:Archeologia\nhttps://rekrutacja.ug.edu.pl/kierunek/archeologia/
URL:https://rekrutacja.ug.edu.pl/kierunek/archeologia/
END:VEVENT
END:VCALENDAR
