BEGIN:VCALENDAR
VERSION:2.0
PRODID:-//UG Rekrutacja//PL
CALSCALE:GREGORIAN
METHOD:PUBLISH
BEGIN:VEVENT
UID:archeologia-1227-0@ug.edu.pl
DTSTAMP:20260420T162743Z
DTSTART;VALUE=DATE:20260615
DTEND;VALUE=DATE:20260616
SUMMARY:Rozpoczęcie rejestracji – Archeologia
DESCRIPTION:Archeologia\nhttps://rekrutacja.ug.edu.pl/kierunek/archeologia-2/
URL:https://rekrutacja.ug.edu.pl/kierunek/archeologia-2/
END:VEVENT
BEGIN:VEVENT
UID:archeologia-1227-1@ug.edu.pl
DTSTAMP:20260420T162743Z
DTSTART;VALUE=DATE:20260715
DTEND;VALUE=DATE:20260716
SUMMARY:Zakończenie rejestracji – Archeologia
DESCRIPTION:Archeologia\nhttps://rekrutacja.ug.edu.pl/kierunek/archeologia-2/
URL:https://rekrutacja.ug.edu.pl/kierunek/archeologia-2/
END:VEVENT
BEGIN:VEVENT
UID:archeologia-1227-2@ug.edu.pl
DTSTAMP:20260420T162743Z
DTSTART;VALUE=DATE:20260716
DTEND;VALUE=DATE:20260717
SUMMARY:Egzaminy dla obcokrajowców – Archeologia
DESCRIPTION:Archeologia\nhttps://rekrutacja.ug.edu.pl/kierunek/archeologia-2/
URL:https://rekrutacja.ug.edu.pl/kierunek/archeologia-2/
END:VEVENT
BEGIN:VEVENT
UID:archeologia-1227-3@ug.edu.pl
DTSTAMP:20260420T162743Z
DTSTART;VALUE=DATE:20260717
DTEND;VALUE=DATE:20260718
SUMMARY:Ogłoszenie kandydatów – Archeologia
DESCRIPTION:Archeologia\nhttps://rekrutacja.ug.edu.pl/kierunek/archeologia-2/
URL:https://rekrutacja.ug.edu.pl/kierunek/archeologia-2/
END:VEVENT
BEGIN:VEVENT
UID:archeologia-1227-4@ug.edu.pl
DTSTAMP:20260420T162743Z
DTSTART;VALUE=DATE:20260720
DTEND;VALUE=DATE:20260721
SUMMARY:Składanie dokumentów – start – Archeologia
DESCRIPTION:Archeologia\nhttps://rekrutacja.ug.edu.pl/kierunek/archeologia-2/
URL:https://rekrutacja.ug.edu.pl/kierunek/archeologia-2/
END:VEVENT
BEGIN:VEVENT
UID:archeologia-1227-5@ug.edu.pl
DTSTAMP:20260420T162743Z
DTSTART;VALUE=DATE:20260723
DTEND;VALUE=DATE:20260724
SUMMARY:Składanie dokumentów – koniec – Archeologia
DESCRIPTION:Archeologia\nhttps://rekrutacja.ug.edu.pl/kierunek/archeologia-2/
URL:https://rekrutacja.ug.edu.pl/kierunek/archeologia-2/
END:VEVENT
BEGIN:VEVENT
UID:archeologia-1227-6@ug.edu.pl
DTSTAMP:20260420T162743Z
DTSTART;VALUE=DATE:20260724
DTEND;VALUE=DATE:20260725
SUMMARY:Ogłoszenie przyjętych – Archeologia
DESCRIPTION:Archeologia\nhttps://rekrutacja.ug.edu.pl/kierunek/archeologia-2/
URL:https://rekrutacja.ug.edu.pl/kierunek/archeologia-2/
END:VEVENT
END:VCALENDAR
